BEGIN:VCALENDAR
VERSION:2.0
PRODID:-//hacksw/handcal//NONSGML v1.0//EN
CALSCALE:GREGORIAN
BEGIN:VEVENT
LOCATION:
DESCRIPTION:Lecturas pedagógicas internacionales se organizan cada año por la Facultad de Capacitación de Profesores de la Lengua Rusa como extranjera dela RUDN.
DTSTART:20181025T150600Z
DTEND:20181025T150600Z
SUMMARY:Conferencia internacional “Lecturas de Mótina”
URL;VALUE=URI:/media/events/conferencia-internacional-lecturas-de-mtina/
DTSTAMP:20260423T232255Z
UID:69ea7f9fbb2f6
END:VEVENT
END:VCALENDAR